BEGIN:VCALENDAR
VERSION:2.0
PRODID:FOODweb.it
X-PUBLISHED-TTL:P1W
BEGIN:VEVENT
UID:undefined
DTSTART:NaNNaNNaNTNaNNaNNaNZ
SEQUENCE:0
TRANSP:OPAQUE
DTEND:NaNNaNNaNTNaNNaNNaNZ
SUMMARY:undefined
CLASS:PUBLIC
DTSTAMP:20260422T113024Z
END:VEVENT
END:VCALENDAR